BEGIN:VCALENDAR
VERSION:2.0
PRODID:icalendar-ruby
CALSCALE:GREGORIAN
METHOD:PUBLISH
BEGIN:VEVENT
DTSTAMP:20260422T075444Z
UID:12-530691@vafbc.org
DTSTART:20261021T003000Z
DTEND:20261021T010000Z
CLASS:PUBLIC
CREATED:20260421T165059
DESCRIPTION:Please Join us for Bible Study on Tuesday's at 5:30pm on the ch
 urch prayerline. 1.774.220.4000\; Access Code: 522.6583#
LAST-MODIFIED:20260421T165059
LOCATION:Church Prayer Line
SUMMARY:Bible Study
URL;VALUE=URI:https://vafbc.org/events/bible-study/2026-10-20
END:VEVENT
END:VCALENDAR
