BEGIN:VCALENDAR
VERSION:2.0
PRODID:icalendar-ruby
CALSCALE:GREGORIAN
METHOD:PUBLISH
BEGIN:VEVENT
DTSTAMP:20260421T025517Z
UID:10-528100@vafbc.org
DTSTART:20260923T010000Z
DTEND:20260923T013000Z
CLASS:PUBLIC
CREATED:20260420T163801
DESCRIPTION:Please join us for Prayer Meetings on Tuesday's at 6PM on the C
 hurch Prayer line. 1.774.220.4000\; Access Code: 522.6583#.
LAST-MODIFIED:20260420T163801
LOCATION:Church Prayer line
SUMMARY:Prayer Meeting
URL;VALUE=URI:https://vafbc.org/events/prayer-meeting/2026-09-22
END:VEVENT
END:VCALENDAR
